BEGIN:VCALENDAR
VERSION:2.0
PRODID:-//Interlake PTSA - ECPv6.6.2//NONSGML v1.0//EN
CALSCALE:GREGORIAN
METHOD:PUBLISH
X-ORIGINAL-URL:https://interlakeptsa.org
X-WR-CALDESC:Events for Interlake PTSA
REFRESH-INTERVAL;VALUE=DURATION:PT1H
X-Robots-Tag:noindex
X-PUBLISHED-TTL:PT1H
BEGIN:VTIMEZONE
TZID:America/Los_Angeles
BEGIN:DAYLIGHT
TZOFFSETFROM:-0800
TZOFFSETTO:-0700
TZNAME:PDT
DTSTART:20260308T100000
END:DAYLIGHT
BEGIN:STANDARD
TZOFFSETFROM:-0700
TZOFFSETTO:-0800
TZNAME:PST
DTSTART:20261101T090000
END:STANDARD
END:VTIMEZONE
BEGIN:VEVENT
DTSTART;VALUE=DATE:20260216
DTEND;VALUE=DATE:20260221
DTSTAMP:20260424T033748
CREATED:20240909T010921Z
LAST-MODIFIED:20250815T235228Z
UID:10842-1771200000-1771631999@interlakeptsa.org
SUMMARY:No school\, mid-winter break
DESCRIPTION:No school\, mid-winter break
URL:https://interlakeptsa.org/eventcalendar/no-school-mid-winter-break
CATEGORIES:Holiday
END:VEVENT
END:VCALENDAR